BEGIN:VCALENDAR
VERSION:2.0
PRODID:-//TKKD.nl - ECPv4.9.1.1//NONSGML v1.0//EN
CALSCALE:GREGORIAN
METHOD:PUBLISH
X-WR-CALNAME:TKKD.nl
X-ORIGINAL-URL:https://www.toonkunstkoordelfzijl.nl/oude-site
X-WR-CALDESC:Events for TKKD.nl
BEGIN:VEVENT
DTSTART;TZID=UTC+0:20200504T210000
DTEND;TZID=UTC+0:20200504T220000
DTSTAMP:20260423T084621
CREATED:20200121T105523Z
LAST-MODIFIED:20200130T165337Z
UID:4137-1588626000-1588629600@www.toonkunstkoordelfzijl.nl
SUMMARY:Herdenkingsconcert 4 mei 2020
DESCRIPTION:Gastzangers van harte welkom op ons herdenkingsconcert 4 mei 2020! \n  \nToonkunstkoor Delfzijl voert op 4 mei het Requiem van Fauré uit in de Nicolaikerk te Appingedam. \nIn het kader van 75 jaar Vrijheid wordt na de dodenherdenking in Appingedam dit concert gratis aangeboden. \nOns koor van 48 leden nodigt voor dit bijzondere optreden graag geoefende zangers uit om dit Requiem samen met ons te zingen. \nWie dit stuk nog nooit heeft gezongen\, kan vanaf maart op de woensdagavond met ons mee repeteren; wie het stuk kent zien we graag in april op de laatste 5 repetities. \n  \nWij repeteren op de woensdagavond van 19.45 – 21.45 in de Farmsumerkerk\, \nOp de Wierde 1\, 9936 CK  Farmsum. \nPartituur (zelf aan te schaffen) in de Carus-uitvoering. \nKosten:  15 Euro per maand. Te voldoen vóór resp. 1 maart en/of 1 april \nop bankrekeningnummer: NL43 RABO 0366 9692 93 \no.v.v. projectzanger 4 mei 2020 en je naam. \nOp maandag 4 mei begint het concert om 21.00 uur; generale repetitie zaterdag 2 mei om 14.00 uur in de Nicolaïkerk. \n  \nOpgave per mail vóór 15 februari\, graag met vermelding stemsoort:  herdenkingsconcerttkkd@gmail.com \nHet kan zijn dat we omwille van een goede stemverdeling in de loop van februari een voorlopige of definitieve stop moeten instellen; uiteraard laten we dat dan weten. \nVoor eventuele verdere informatie en vragen kun je mailen of bellen: 0596 629206 (Rudi Gerritsen) \nWelkom! \n  \n  \n  \n  \n  \n  \n
URL:https://www.toonkunstkoordelfzijl.nl/oude-site/event/herdenkingsconcert-4-mei-2020/
LOCATION:Nicolaïkerk Appingedam\, Wijkstraat\, Appingedam\, Groningen\, Nederland
END:VEVENT
END:VCALENDAR