BEGIN:VCALENDAR
VERSION:2.0
PRODID:-//TKKD.nl - ECPv4.9.1.1//NONSGML v1.0//EN
CALSCALE:GREGORIAN
METHOD:PUBLISH
X-WR-CALNAME:TKKD.nl
X-ORIGINAL-URL:https://www.toonkunstkoordelfzijl.nl/oude-site
X-WR-CALDESC:Events for TKKD.nl
BEGIN:VEVENT
DTSTART;TZID=UTC+0:20181124T200000
DTEND;TZID=UTC+0:20181124T223000
DTSTAMP:20260423T084855
CREATED:20180429T142154Z
LAST-MODIFIED:20181026T104201Z
UID:4047-1543089600-1543098600@www.toonkunstkoordelfzijl.nl
SUMMARY:Jubileumconcert 24 november 2018
DESCRIPTION: \nGraag zien we u weer op ons Jubileumconcert op zaterdagavond 24 november  in de Nicolaikerk te Appingedam. \nAanvang 20.00 uur. \nUitgevoerd worden dan: de Missa No. 9 in D major van J.D. Heinichen en Motetto Laudate Dominum de coelis van M. Corette. \nOok weer m.m.v. symfonieorkest Suonare d’Amatori. \nHeinichen is een tijdgenoot van Bach en daardoor qua bekendheid ietwat ondergesneeuwd\, maar ook hij heeft prachtige muziek geschreven. En bijna iedereen die van klassieke muziek houdt kent Vivaldi’s jaargetijden; in het stuk van Corrette zult u de Lente herkennen! \nSolisten: \nSopraan Elizabeth Kooy \nAltus       David van Laar \nTenor      Jeroen Helder \nBas          Ben Brunt \nMuzikaal intermezzo: Concerto voor hobo d’amore van Antonio Lotti\, met Erik Wijma\, hobo. \nDe entree voor het concert is € 19\,00 –  voorverkoop € 17\,50 –   CJP jongeren/studenten/kinderen tot 18 jaar  € 10\,00 \n(inclusief programmaboekje en koffie of thee in de pauze). \nKaarten verkrijgbaar via deze site (Contact)\, VVV Apppingedam en Delfzijl\, de koorleden of ’s avonds aan de kerk. \n  \n
URL:https://www.toonkunstkoordelfzijl.nl/oude-site/event/jubileumconcert-24-november-2018/
LOCATION:Nicolaïkerk Appingedam\, Wijkstraat\, Appingedam\, Groningen\, Nederland
END:VEVENT
END:VCALENDAR