BEGIN:VCALENDAR
VERSION:2.0
PRODID:-//TKKD.nl - ECPv4.9.1.1//NONSGML v1.0//EN
CALSCALE:GREGORIAN
METHOD:PUBLISH
X-WR-CALNAME:TKKD.nl
X-ORIGINAL-URL:https://www.toonkunstkoordelfzijl.nl/oude-site
X-WR-CALDESC:Events for TKKD.nl
BEGIN:VEVENT
DTSTART;TZID=UTC+0:20230402T160000
DTEND;TZID=UTC+0:20230402T173000
DTSTAMP:20260421T125247
CREATED:20230223T091705Z
LAST-MODIFIED:20230327T154524Z
UID:4312-1680451200-1680456600@www.toonkunstkoordelfzijl.nl
SUMMARY:Passieconcert 2 april 2023
DESCRIPTION:Op Palmzondag geven wij een passieconcert in de Magnuskerk te Bellingwolde. \nUitgevoerd worden The Crucifixion van John Stainer en het Stabat Mater van Josef Gabriel Rheinberger. \nWij worden begeleid door organist Bouko Tiggelaar en solisten zijn: \nMartin Sprenger\, tenor \nPeter van Dijk\, bariton. \nAanvang: 16:00 uur \nEntree € 10 \nAdres: Magnuskerk\, Hoofdweg 227\, 9695 AG Bellingwolde \n  \n
URL:https://www.toonkunstkoordelfzijl.nl/oude-site/event/passieconcert-2-april-2023/
LOCATION:Magnuskerk\, Hoofdweg 227\, 9695 AG Bellingwolde\, Hoofdweg 227\, Bellingwolde\, 9695 AG\, Nederland
CATEGORIES:Concert
END:VEVENT
END:VCALENDAR