BEGIN:VCALENDAR
VERSION:2.0
PRODID:-//TKKD.nl - ECPv4.9.1.1//NONSGML v1.0//EN
CALSCALE:GREGORIAN
METHOD:PUBLISH
X-WR-CALNAME:TKKD.nl
X-ORIGINAL-URL:https://www.toonkunstkoordelfzijl.nl/oude-site
X-WR-CALDESC:Events for TKKD.nl
BEGIN:VEVENT
DTSTART;TZID=UTC+0:20170409T160000
DTEND;TZID=UTC+0:20170409T173000
DTSTAMP:20260423T101413
CREATED:20170402T135420Z
LAST-MODIFIED:20170402T201749Z
UID:3722-1491753600-1491759000@www.toonkunstkoordelfzijl.nl
SUMMARY:Passieconcert Bellingwolde 9 april
DESCRIPTION:Passieconcert in de Magnuskerk te Bellingwolde \nOp Palmzondag 9 april  om 16.00 uur zingen wij  nogmaals delen uit “Die sieben letzten Worte unseres Erlösers am Kreuze” van Joseph Haydn. Ook kunt u weer het prachtige Ave Verum en De Profundis Clamavi van Mozart beluisteren. Daarnaast verzorgt onze dirigent Vincent Hensen nog een aantal orgelsolo’s.. Het koor wordt op de piano begeleid door Mineke Potgieser.   \nIn de pauze wordt\, zoals gebruikelijk\, koffie en thee geserveerd. De entreeprijs is €10. \n  \nFlyer Concert 9 april \n
URL:https://www.toonkunstkoordelfzijl.nl/oude-site/event/passieconcert-bellingwolde-9-april/
CATEGORIES:Concert
END:VEVENT
END:VCALENDAR