BEGIN:VCALENDAR
VERSION:2.0
PRODID:-//TKKD.nl - ECPv4.9.1.1//NONSGML v1.0//EN
CALSCALE:GREGORIAN
METHOD:PUBLISH
X-WR-CALNAME:TKKD.nl
X-ORIGINAL-URL:https://www.toonkunstkoordelfzijl.nl/oude-site
X-WR-CALDESC:Events for TKKD.nl
BEGIN:VEVENT
DTSTART;TZID=UTC+0:20180407T200000
DTEND;TZID=UTC+0:20180407T223000
DTSTAMP:20260423T101414
CREATED:20180118T152456Z
LAST-MODIFIED:20180323T144413Z
UID:3822-1523131200-1523140200@www.toonkunstkoordelfzijl.nl
SUMMARY:Die Schöpfung from Scratch 7 april 2018
DESCRIPTION:Zoals eerder gemeld vieren wij in 2018 ons 75-jarig bestaan\,  om te  beginnen op 7 april met Die Schöpfung from Scratch. Later dit jaar volgt nog op 24 november ons Jubileumconcert! \n \n  \n  \n  \nMaar eerst dus 7 april! Op die dag gaan wij met in totaal 130 zangers de hele dag aan de slag met deze prachtige muziek van Joseph Haydn\,  onder leiding van Peter Dijkstra. Ons eigen koor studeert dit nu in\, aangevuld  met 20 projectzangers en op 7 april komen dan nog 85 gastzangers die dit stuk al ingestudeerd hebben\, met ons de puntjes op de i zetten\, samen met symphonie-orkest Suonare d’Amatori en solisten Aline Rozeboom\, sopraan\, Vincent Hensen\, tenor en Roele Kok\, bariton. \n  \nHet concert begint om 20:00 uur (in de Nicolaïkerk te Appingedam). \nEntree:  € 15 incl. koffie/thee.  Kinderen tot 13 jaar € 7. \nVia Contact op deze website of via www.facebook.com/toonkunstkoordelfzijl kunt u al kaarten bestellen! \n  \n  \n  \nDit evenement is mede mogelijk gemaakt door: \n\n  \n
URL:https://www.toonkunstkoordelfzijl.nl/oude-site/event/schopfung-from-scratch-7-april-2018-2/
END:VEVENT
END:VCALENDAR